BEGIN:VCALENDAR
VERSION:2.0
PRODID:-//Hackney CVS - ECPv6.15.20//NONSGML v1.0//EN
CALSCALE:GREGORIAN
METHOD:PUBLISH
X-ORIGINAL-URL:https://hcvs.org.uk
X-WR-CALDESC:Events for Hackney CVS
REFRESH-INTERVAL;VALUE=DURATION:PT1H
X-Robots-Tag:noindex
X-PUBLISHED-TTL:PT1H
BEGIN:VTIMEZONE
TZID:UTC
BEGIN:STANDARD
TZOFFSETFROM:+0000
TZOFFSETTO:+0000
TZNAME:UTC
DTSTART:20180101T000000
END:STANDARD
END:VTIMEZONE
BEGIN:VEVENT
DTSTART;TZID=UTC:20190507T050000
DTEND;TZID=UTC:20190507T190000
DTSTAMP:20260425T234122
CREATED:20190502T085158Z
LAST-MODIFIED:20190502T085158Z
UID:9449-1557205200-1557255600@hcvs.org.uk
SUMMARY:Rainbow Grow
DESCRIPTION:Rainbow Grow is a Hackney-based\, LGBTQI+ led community gardening initiative open to all those who support the aim of providing a friendly space for members of the LGBTQI+ community. They meet weekly in Dalston at Hackney CVS. The next meetings will be on Tuesday 7 May and 21 May\, 5:00-7:00pm. On Saturday 18 May they will have a Mushroom Growing day. Read more
URL:https://hcvs.org.uk/event/rainbow-grow/
LOCATION:Hackney CVS\, 24-30 Dalston Lane\, London\, E8 3AZ\, United Kingdom
END:VEVENT
END:VCALENDAR