BEGIN:VCALENDAR
VERSION:2.0
PRODID:-//Hackney CVS - ECPv6.15.20//NONSGML v1.0//EN
CALSCALE:GREGORIAN
METHOD:PUBLISH
X-WR-CALNAME:Hackney CVS
X-ORIGINAL-URL:https://hcvs.org.uk
X-WR-CALDESC:Events for Hackney CVS
REFRESH-INTERVAL;VALUE=DURATION:PT1H
X-Robots-Tag:noindex
X-PUBLISHED-TTL:PT1H
BEGIN:VTIMEZONE
TZID:UTC
BEGIN:STANDARD
TZOFFSETFROM:+0000
TZOFFSETTO:+0000
TZNAME:UTC
DTSTART:20180101T000000
END:STANDARD
END:VTIMEZONE
BEGIN:VEVENT
DTSTART;TZID=UTC:20190402T100000
DTEND;TZID=UTC:20190402T160000
DTSTAMP:20260425T185719
CREATED:20190312T113823Z
LAST-MODIFIED:20190312T113823Z
UID:9023-1554199200-1554220800@hcvs.org.uk
SUMMARY:Open Space Event: Well Street Common Pilot
DESCRIPTION:Open Space Event: Well Street Common Pilot. The aim of this event is to get local providers and residents who are based in or who work in Well Street Common (SE1) to have a conversation about addressing health inequalities and discussing ways to create better support for people. Date: 2 April. Read more
URL:https://hcvs.org.uk/event/open-space-event-well-street-common-pilot/
END:VEVENT
END:VCALENDAR