BEGIN:VCALENDAR
VERSION:2.0
PRODID:-//Hackney CVS - ECPv6.15.20//NONSGML v1.0//EN
CALSCALE:GREGORIAN
METHOD:PUBLISH
X-WR-CALNAME:Hackney CVS
X-ORIGINAL-URL:https://hcvs.org.uk
X-WR-CALDESC:Events for Hackney CVS
REFRESH-INTERVAL;VALUE=DURATION:PT1H
X-Robots-Tag:noindex
X-PUBLISHED-TTL:PT1H
BEGIN:VTIMEZONE
TZID:UTC
BEGIN:STANDARD
TZOFFSETFROM:+0000
TZOFFSETTO:+0000
TZNAME:UTC
DTSTART:20180101T000000
END:STANDARD
END:VTIMEZONE
BEGIN:VEVENT
DTSTART;TZID=UTC:20190324T180000
DTEND;TZID=UTC:20190324T200000
DTSTAMP:20260425T185724
CREATED:20190312T113609Z
LAST-MODIFIED:20190312T113609Z
UID:9019-1553450400-1553457600@hcvs.org.uk
SUMMARY:'Freedom Song’
DESCRIPTION:‘Freedom Song’ at Hackney Empire on 24 March\, 6pm.\nThree local community choirs\, led by Harvey Brough\, will tell the remarkable story of the Fisk Jubilee Singers\, a group of former slaves from Tennessee\, who brought their ‘Songs of Sorrow and Freedom’ to the world\, including to communities in Hackney. To buy tickets click here. Read more
URL:https://hcvs.org.uk/event/freedom-song/
END:VEVENT
END:VCALENDAR