BEGIN:VCALENDAR
VERSION:2.0
PRODID:-//Hackney CVS - ECPv6.15.20//NONSGML v1.0//EN
CALSCALE:GREGORIAN
METHOD:PUBLISH
X-WR-CALNAME:Hackney CVS
X-ORIGINAL-URL:https://hcvs.org.uk
X-WR-CALDESC:Events for Hackney CVS
REFRESH-INTERVAL;VALUE=DURATION:PT1H
X-Robots-Tag:noindex
X-PUBLISHED-TTL:PT1H
BEGIN:VTIMEZONE
TZID:UTC
BEGIN:STANDARD
TZOFFSETFROM:+0000
TZOFFSETTO:+0000
TZNAME:UTC
DTSTART:20180101T000000
END:STANDARD
END:VTIMEZONE
BEGIN:VEVENT
DTSTART;TZID=UTC:20190122T080000
DTEND;TZID=UTC:20190122T170000
DTSTAMP:20260425T141016
CREATED:20181107T155928Z
LAST-MODIFIED:20181122T115938Z
UID:7683-1548144000-1548176400@hcvs.org.uk
SUMMARY:Influencing Change\, a five-day training programme
DESCRIPTION:Sheila McKechnie Foundation invites you to Influencing Change\, a five-day training programme for campaigners. Dates: 22\, 23 January\, 25\, 26 February and 26 March. Deadline for applications: 3 December. Read more
URL:https://hcvs.org.uk/event/influencing-change-five-day-training-programme/
END:VEVENT
END:VCALENDAR