BEGIN:VCALENDAR
VERSION:2.0
PRODID:-//Hackney CVS - ECPv6.15.20//NONSGML v1.0//EN
CALSCALE:GREGORIAN
METHOD:PUBLISH
X-ORIGINAL-URL:https://hcvs.org.uk
X-WR-CALDESC:Events for Hackney CVS
REFRESH-INTERVAL;VALUE=DURATION:PT1H
X-Robots-Tag:noindex
X-PUBLISHED-TTL:PT1H
BEGIN:VTIMEZONE
TZID:UTC
BEGIN:STANDARD
TZOFFSETFROM:+0000
TZOFFSETTO:+0000
TZNAME:UTC
DTSTART:20170101T000000
END:STANDARD
END:VTIMEZONE
BEGIN:VEVENT
DTSTART;TZID=UTC:20181030T103000
DTEND;TZID=UTC:20181030T150000
DTSTAMP:20260419T185615
CREATED:20181022T111021Z
LAST-MODIFIED:20181022T111021Z
UID:7385-1540895400-1540911600@hcvs.org.uk
SUMMARY:The value of community and connections as we get older
DESCRIPTION:Connect Hackney is holding an event on the importance of social relationships in later life\, featuring speakers from The Campaign to End Loneliness\, Shift Design\, local community projects and older Hackney residents. The event is aimed at older people as well as staff and organisations working with them. Date: 30 October. \nRegister here.
URL:https://hcvs.org.uk/event/value-community-connections-get-older/
END:VEVENT
END:VCALENDAR