BEGIN:VCALENDAR
VERSION:2.0
PRODID:-//Hackney CVS - ECPv6.15.20//NONSGML v1.0//EN
CALSCALE:GREGORIAN
METHOD:PUBLISH
X-WR-CALNAME:Hackney CVS
X-ORIGINAL-URL:https://hcvs.org.uk
X-WR-CALDESC:Events for Hackney CVS
REFRESH-INTERVAL;VALUE=DURATION:PT1H
X-Robots-Tag:noindex
X-PUBLISHED-TTL:PT1H
BEGIN:VTIMEZONE
TZID:UTC
BEGIN:STANDARD
TZOFFSETFROM:+0000
TZOFFSETTO:+0000
TZNAME:UTC
DTSTART:20170101T000000
END:STANDARD
END:VTIMEZONE
BEGIN:VEVENT
DTSTART;TZID=UTC:20181004T100000
DTEND;TZID=UTC:20181004T130000
DTSTAMP:20260422T181208
CREATED:20180725T091433Z
LAST-MODIFIED:20180725T091433Z
UID:6130-1538647200-1538658000@hcvs.org.uk
SUMMARY:Basic Risk Assessment
DESCRIPTION:This introductory course will identify what should be considered when carrying out a risk assessment and will equip learners with the basic knowledge necessary to take on health and safety responsibilities and play a part in making workplaces safer. \nDate: 4 October 2018 Time: 10.00am – 1.00pm\nFor further information or to book click here
URL:https://hcvs.org.uk/event/basic-risk-assessment-3/
LOCATION:Hackney CVS\, 24-30 Dalston Lane\, London\, E8 3AZ\, United Kingdom
END:VEVENT
END:VCALENDAR