BEGIN:VCALENDAR
VERSION:2.0
PRODID:-//Hackney CVS - ECPv6.15.20//NONSGML v1.0//EN
CALSCALE:GREGORIAN
METHOD:PUBLISH
X-ORIGINAL-URL:https://hcvs.org.uk
X-WR-CALDESC:Events for Hackney CVS
REFRESH-INTERVAL;VALUE=DURATION:PT1H
X-Robots-Tag:noindex
X-PUBLISHED-TTL:PT1H
BEGIN:VTIMEZONE
TZID:UTC
BEGIN:STANDARD
TZOFFSETFROM:+0000
TZOFFSETTO:+0000
TZNAME:UTC
DTSTART:20170101T000000
END:STANDARD
END:VTIMEZONE
BEGIN:VEVENT
DTSTART;TZID=UTC:20180830T130000
DTEND;TZID=UTC:20180830T160000
DTSTAMP:20260422T181508
CREATED:20180829T102242Z
LAST-MODIFIED:20180829T102242Z
UID:6688-1535634000-1535644800@hcvs.org.uk
SUMMARY:Next Steps Careers Festival
DESCRIPTION:Just got your results and unsure about what to do next? Young Hackney have got you covered… \nNext Steps Careers Festival is an event focused on helping you work out what you want to do next. If you’re struggling to make some decisions and just need that extra help\, it’s okay! \nAt the event you will get: \n\nOne-to-one expert support\nGet info about courses on offer at local colleges\nSpeak to professional careers advisers\nRegister for an apprenticeship\nFind out about training opportunities.\n\n  \nHackney Town Hall \n 
URL:https://hcvs.org.uk/event/next-steps-careers-festival/
END:VEVENT
END:VCALENDAR