BEGIN:VCALENDAR
VERSION:2.0
PRODID:-//Hackney CVS - ECPv6.15.20//NONSGML v1.0//EN
CALSCALE:GREGORIAN
METHOD:PUBLISH
X-ORIGINAL-URL:https://hcvs.org.uk
X-WR-CALDESC:Events for Hackney CVS
REFRESH-INTERVAL;VALUE=DURATION:PT1H
X-Robots-Tag:noindex
X-PUBLISHED-TTL:PT1H
BEGIN:VTIMEZONE
TZID:UTC
BEGIN:STANDARD
TZOFFSETFROM:+0000
TZOFFSETTO:+0000
TZNAME:UTC
DTSTART:20170101T000000
END:STANDARD
END:VTIMEZONE
BEGIN:VEVENT
DTSTART;TZID=UTC:20180803T190000
DTEND;TZID=UTC:20180803T230000
DTSTAMP:20260422T181507
CREATED:20180801T131115Z
LAST-MODIFIED:20180801T131115Z
UID:6249-1533322800-1533337200@hcvs.org.uk
SUMMARY:'THE LAST GUARDIANS' SH FILMS FOR ACTION SCREENING
DESCRIPTION:Join Sustainable Hackney once again for a SPECIAL film screening event in partnership with La Wayaka Current. \nLa Wayaka Current is a group of artists and creative minds exploring arts\, cultural and environmental diversity across the planet and in turn reflect on our own communities\, habitats and ourselves.
URL:https://hcvs.org.uk/event/last-guardians-sh-films-action-screening/
END:VEVENT
END:VCALENDAR