BEGIN:VCALENDAR
VERSION:2.0
PRODID:-//Hackney CVS - ECPv6.15.20//NONSGML v1.0//EN
CALSCALE:GREGORIAN
METHOD:PUBLISH
X-WR-CALNAME:Hackney CVS
X-ORIGINAL-URL:https://hcvs.org.uk
X-WR-CALDESC:Events for Hackney CVS
REFRESH-INTERVAL;VALUE=DURATION:PT1H
X-Robots-Tag:noindex
X-PUBLISHED-TTL:PT1H
BEGIN:VTIMEZONE
TZID:UTC
BEGIN:STANDARD
TZOFFSETFROM:+0000
TZOFFSETTO:+0000
TZNAME:UTC
DTSTART:20170101T000000
END:STANDARD
END:VTIMEZONE
BEGIN:VEVENT
DTSTART;TZID=UTC:20180109T103000
DTEND;TZID=UTC:20180109T123000
DTSTAMP:20260421T233817
CREATED:20171211T132518Z
LAST-MODIFIED:20171211T132518Z
UID:3349-1515493800-1515501000@hcvs.org.uk
SUMMARY:12 week course for older people who have been diagnosed with type 2 diabetes
DESCRIPTION:MRS Independent Living Peer Support Project is running a 12 week course for Older People who have been diagnosed with type 2 Diabetes. \nThe series will run from 10.30 – 12.30 am on Tuesdays from the 9th January 2018- 27th March. \nIf you are unsure about the changes in your life style you should be making OR if you know what you should do but just find it very hard to make the changes then this may be the course you have been waiting for. It will also be a chance to meet new people who also want to make changes in their life style. \nEach session will include delicious and healthy refreshments. \nThe course is open to all older people but is geared particularly to meeting the needs of the Black and Caribbean Communities. \nIf you would like further information and details please telephone 0330 380 1013 or email Services@mrsindependentliving.org \n 
URL:https://hcvs.org.uk/event/12-week-course-older-people-diagnosed-type-2-diabetes/
ATTACH;FMTTYPE=image/png:https://hcvs.org.uk/wp-content/uploads/2017/12/independent-living.png
END:VEVENT
END:VCALENDAR