BEGIN:VCALENDAR
VERSION:2.0
PRODID:-//Hackney CVS - ECPv6.15.20//NONSGML v1.0//EN
CALSCALE:GREGORIAN
METHOD:PUBLISH
X-ORIGINAL-URL:https://hcvs.org.uk
X-WR-CALDESC:Events for Hackney CVS
REFRESH-INTERVAL;VALUE=DURATION:PT1H
X-Robots-Tag:noindex
X-PUBLISHED-TTL:PT1H
BEGIN:VTIMEZONE
TZID:UTC
BEGIN:STANDARD
TZOFFSETFROM:+0000
TZOFFSETTO:+0000
TZNAME:UTC
DTSTART:20160101T000000
END:STANDARD
END:VTIMEZONE
BEGIN:VEVENT
DTSTART;TZID=UTC:20171115T103000
DTEND;TZID=UTC:20171115T143000
DTSTAMP:20260424T104950
CREATED:20171106T153302Z
LAST-MODIFIED:20171106T153302Z
UID:2969-1510741800-1510756200@hcvs.org.uk
SUMMARY:City and Hackney ‘stay healthy’ event
DESCRIPTION:Would you like to know more about how to keep healthy? \nJoin us for this free community health event which includes the below and more: \n• Massage \n• Foot health session \n• Smoothie bikes – cycle your way to a smoothie \n• Information on local mental health support \n• Cooking healthy food on a budget \n• Diabetes checks \n  \nThere is no need to register\, just come along on the day. \nWed. 15 November 2017 10.30am – 2.30pm \nHackney Central Library \n1 Reading Lane\, E8 1GQ \n  \nDownload the leaflet here.
URL:https://hcvs.org.uk/event/city-hackney-stay-healthy-event/
END:VEVENT
BEGIN:VEVENT
DTSTART;TZID=UTC:20171115T123000
DTEND;TZID=UTC:20171115T143000
DTSTAMP:20260424T104950
CREATED:20171101T174010Z
LAST-MODIFIED:20171101T174226Z
UID:2845-1510749000-1510756200@hcvs.org.uk
SUMMARY:Managing Your Money Workshop
DESCRIPTION:With real incomes falling and personal debt at a record high\, there has never been a better time to improve your personal financial skills. \nWhat will the session cover? \n\nKnow what you want to do with money;\nKnow where your money goes;\nKnow how to save money for your goals;\nPlan your spending in advance;\nKnow exactly where you need to put control;\n\nWhen? \nDate: 15th November 2017 Time: 12.30 am – 2.30 pm \nWhere? \nPrincess May Primary School\, Princess May Road\, London N16 8DF \nTo book your place call: 020 7249 5748 or 07863 234832 or email: office@acschool.org.uk \nRead the leaflet here. \n  \n* This workshop is part funded by The Big Lottery Fund and the European Social Fund for economically inactive and long term unemployed Black\, Asian and Minority Ethnic (BAME) women who have the right to work in the UK. \n  \n 
URL:https://hcvs.org.uk/event/managing-money-workshop/
ATTACH;FMTTYPE=image/jpeg:https://hcvs.org.uk/wp-content/uploads/2017/10/IMG_8455.jpg
END:VEVENT
END:VCALENDAR