BEGIN:VCALENDAR
VERSION:2.0
PRODID:-//Hackney CVS - ECPv6.15.20//NONSGML v1.0//EN
CALSCALE:GREGORIAN
METHOD:PUBLISH
X-WR-CALNAME:Hackney CVS
X-ORIGINAL-URL:https://hcvs.org.uk
X-WR-CALDESC:Events for Hackney CVS
REFRESH-INTERVAL;VALUE=DURATION:PT1H
X-Robots-Tag:noindex
X-PUBLISHED-TTL:PT1H
BEGIN:VTIMEZONE
TZID:UTC
BEGIN:STANDARD
TZOFFSETFROM:+0000
TZOFFSETTO:+0000
TZNAME:UTC
DTSTART:20160101T000000
END:STANDARD
END:VTIMEZONE
BEGIN:VEVENT
DTSTART;TZID=UTC:20171113T094500
DTEND;TZID=UTC:20171113T130000
DTSTAMP:20260422T070000
CREATED:20171106T150259Z
LAST-MODIFIED:20171106T150259Z
UID:2950-1510566300-1510578000@hcvs.org.uk
SUMMARY:Hackney Small Grants 'How to Apply' session
DESCRIPTION:Hackney CVS is working in partnership with Hackney Council to deliver a workshop on ‘How to Apply’ to the Hackney Small Grants up to £5\,000.\n\nThis workshop will: \n\nProvide an overview of the Hackney Small Grants programme\nGive details on the application process\n\nBy the end of the workshop participants will be able to: \n\nGain a better understanding of the way to identify and evidence need\nApply the Theory of Change model to their application\nPrepare an attractive budget\nDemonstrate a better understanding of the London Borough Hackney Outcomes and Safeguarding questions.\n\nRegister here .
URL:https://hcvs.org.uk/event/hackney-small-grants-apply-session/
LOCATION:Hackney CVS\, 24-30 Dalston Lane\, London\, E8 3AZ\, United Kingdom
END:VEVENT
END:VCALENDAR