BEGIN:VCALENDAR
VERSION:2.0
PRODID:-//Hackney CVS - ECPv6.15.20//NONSGML v1.0//EN
CALSCALE:GREGORIAN
METHOD:PUBLISH
X-WR-CALNAME:Hackney CVS
X-ORIGINAL-URL:https://hcvs.org.uk
X-WR-CALDESC:Events for Hackney CVS
REFRESH-INTERVAL;VALUE=DURATION:PT1H
X-Robots-Tag:noindex
X-PUBLISHED-TTL:PT1H
BEGIN:VTIMEZONE
TZID:UTC
BEGIN:STANDARD
TZOFFSETFROM:+0000
TZOFFSETTO:+0000
TZNAME:UTC
DTSTART:20160101T000000
END:STANDARD
END:VTIMEZONE
BEGIN:VEVENT
DTSTART;TZID=UTC:20171109T103000
DTEND;TZID=UTC:20171109T123000
DTSTAMP:20260421T233816
CREATED:20171013T091937Z
LAST-MODIFIED:20171106T143212Z
UID:2462-1510223400-1510230600@hcvs.org.uk
SUMMARY:Women-led thinking space
DESCRIPTION:This space is especially for women who have experienced any form of abuse.\nWe meet the 2nd and 4th Thursday each month during term time\, creating a safe space to talk about what’s on our minds and offer each other support. We welcome you to join us when you can.\n\n\n\nWhere:\nClaudia Jones Organisation\, 103 Stoke Newington Road\, London N16 8BX\n\nTime:\n10.30am -12.30pm\n\nDay:\nThursdays\n\nDates:\n\n9th & 23rd November |\n14th December\n\n\nhttps://gallery.mailchimp.com/65be9ff44567303ae63d84eed/files/0393f35a-e582-455c-b707-887739ffafe6/Sept_Dec_2017_CJO__Thinking_Space_A5_Flyer.pdf
URL:https://hcvs.org.uk/event/2462/
END:VEVENT
END:VCALENDAR