BEGIN:VCALENDAR
VERSION:2.0
PRODID:-//Hackney CVS - ECPv6.15.20//NONSGML v1.0//EN
CALSCALE:GREGORIAN
METHOD:PUBLISH
X-WR-CALNAME:Hackney CVS
X-ORIGINAL-URL:https://hcvs.org.uk
X-WR-CALDESC:Events for Hackney CVS
REFRESH-INTERVAL;VALUE=DURATION:PT1H
X-Robots-Tag:noindex
X-PUBLISHED-TTL:PT1H
BEGIN:VTIMEZONE
TZID:UTC
BEGIN:STANDARD
TZOFFSETFROM:+0000
TZOFFSETTO:+0000
TZNAME:UTC
DTSTART:20160101T000000
END:STANDARD
END:VTIMEZONE
BEGIN:VEVENT
DTSTART;TZID=UTC:20171027T183000
DTEND;TZID=UTC:20171027T213000
DTSTAMP:20260422T005330
CREATED:20171017T091111Z
LAST-MODIFIED:20171017T091854Z
UID:2502-1509129000-1509139800@hcvs.org.uk
SUMMARY:Black history quiz evening
DESCRIPTION:Join us for our black history month quiz! \nFriday 27th of October at 8 Palatine Road\, N16 8SX. \nTickets and more information: 0207 241 1646 / info@claudiajones.org \n 
URL:https://hcvs.org.uk/event/black-history-quiz-evening/
ATTACH;FMTTYPE=image/jpeg:https://hcvs.org.uk/wp-content/uploads/2017/08/IMG_9947-e1519397790240.jpg
END:VEVENT
END:VCALENDAR