BEGIN:VCALENDAR
VERSION:2.0
PRODID:-//Hackney CVS - ECPv6.15.20//NONSGML v1.0//EN
CALSCALE:GREGORIAN
METHOD:PUBLISH
X-WR-CALNAME:Hackney CVS
X-ORIGINAL-URL:https://hcvs.org.uk
X-WR-CALDESC:Events for Hackney CVS
REFRESH-INTERVAL;VALUE=DURATION:PT1H
X-Robots-Tag:noindex
X-PUBLISHED-TTL:PT1H
BEGIN:VTIMEZONE
TZID:UTC
BEGIN:STANDARD
TZOFFSETFROM:+0000
TZOFFSETTO:+0000
TZNAME:UTC
DTSTART:20160101T000000
END:STANDARD
END:VTIMEZONE
BEGIN:VEVENT
DTSTART;TZID=UTC:20171018T094500
DTEND;TZID=UTC:20171018T130000
DTSTAMP:20260422T071701
CREATED:20171003T135058Z
LAST-MODIFIED:20171003T135058Z
UID:2279-1508319900-1508331600@hcvs.org.uk
SUMMARY:Mental Health First Aid
DESCRIPTION:This is an internationally recognized and certificated Adult Mental First Aid training delivered by certified Mental Health First Aid England instructors.\n\nThis is an introductory three-hour mental health awareness course \nAfter attending this course you will be able to: \n\nDefine mental health and some common mental health issues\nIdentify stigma and discrimination surrounding mental health issues\nRelate to people’s experiences and support people in distress\nLook after your own mental health\n\nThis session will be a mix of presentations\, discussions\, and group work activities. You will receive an Adult MHFA Lite manual as well as an attendance certificate from MHFA England. \n\nContact\nPhone: 020 7923 1962 \nEmail: zebina@hcvs.org.uk\n\nRegister here
URL:https://hcvs.org.uk/event/mental-health-first-aid/
LOCATION:Hackney CVS\, 24-30 Dalston Lane\, London\, E8 3AZ\, United Kingdom
ORGANIZER;CN="Hackney CVS":MAILTO:reception@hcvs.org.uk
END:VEVENT
END:VCALENDAR