BEGIN:VCALENDAR
VERSION:2.0
PRODID:-//Hackney CVS - ECPv6.15.20//NONSGML v1.0//EN
CALSCALE:GREGORIAN
METHOD:PUBLISH
X-WR-CALNAME:Hackney CVS
X-ORIGINAL-URL:https://hcvs.org.uk
X-WR-CALDESC:Events for Hackney CVS
REFRESH-INTERVAL;VALUE=DURATION:PT1H
X-Robots-Tag:noindex
X-PUBLISHED-TTL:PT1H
BEGIN:VTIMEZONE
TZID:UTC
BEGIN:STANDARD
TZOFFSETFROM:+0000
TZOFFSETTO:+0000
TZNAME:UTC
DTSTART:20160101T000000
END:STANDARD
END:VTIMEZONE
BEGIN:VEVENT
DTSTART;TZID=UTC:20171017T103000
DTEND;TZID=UTC:20171017T123000
DTSTAMP:20260422T090850
CREATED:20170925T125045Z
LAST-MODIFIED:20170926T102852Z
UID:1912-1508236200-1508243400@hcvs.org.uk
SUMMARY:Data Protection & Handling (Practical Workshop)
DESCRIPTION:This practical workshop aims to provide an understanding of Data Protection Principles and Data Sharing Protocols. This includes how it is applied in practice and its importance for organisations holding personal information to ensure compliance with the Data Protection Act.\n\nWho is this aimed at?\nAnyone who has a degree of/overall responsibility for data protection within the organisation. It is also useful for others who want to broaden their understanding of this area. \n  \nWhat will I take away? \n\nKnowledge of Data Protection principles and storing information securly\nKnowledge and skills to develop Data Protection policies\nNICE Data sharing protocols & how to apply it in practice.\n\n\nRegister here: https://crm.hcvs.org.uk/civicrm/event/info?reset=1&id=33
URL:https://hcvs.org.uk/event/data-protection-handling-practical-workshop/
LOCATION:Hackney CVS\, 24-30 Dalston Lane\, London\, E8 3AZ\, United Kingdom
ATTACH;FMTTYPE=image/jpeg:https://hcvs.org.uk/wp-content/uploads/2017/09/madia-group-2.jpg
ORGANIZER;CN="Hackney CVS":MAILTO:reception@hcvs.org.uk
END:VEVENT
BEGIN:VEVENT
DTSTART;TZID=UTC:20171017T140000
DTEND;TZID=UTC:20171017T160000
DTSTAMP:20260422T090850
CREATED:20170925T124541Z
LAST-MODIFIED:20170926T103037Z
UID:1906-1508248800-1508256000@hcvs.org.uk
SUMMARY:Data Management\, Recording & Reporting on MS Access Database
DESCRIPTION:This practical training session aims to provide an understanding of data management procedures using the MS Access service user database. This includes how it is applied in practice and its importance for organisations holding personal information on their service users and volunteers.\n\n\nWho is this aimed at? \nAnyone who has a degree of/overall responsibility for administration\, monitoring\, evaluation\, and reporting on projects and activities. It is also useful for others who want to broaden their understanding of these areas. Organisations’ volunteers are also welcome to attend the training if they are interested in gaining admin and projects’ assistance skills. \nWhat will I take away? \n\nUnderstanding of the importance of handling data efficiently and importance of accuracy in data entry.\nUnderstanding of the importance of data integrity and how it could save you time and effort when using a centrally data managed application.\nUnderstanding of the monitoring and evaluation basics\, and applying it in practice in service user data management application.\nKnowledge and skills to develop data management\, reporting and consistency across projects and activities.\nKnowledge of Data Protection procedures in storing information securely.\n\nRegister here: https://crm.hcvs.org.uk/civicrm/event/info?reset=1&id=36 \n 
URL:https://hcvs.org.uk/event/data-management-recording-reporting-ms-access-database-2/
LOCATION:Hackney CVS\, 24-30 Dalston Lane\, London\, E8 3AZ\, United Kingdom
ORGANIZER;CN="Hackney CVS":MAILTO:reception@hcvs.org.uk
END:VEVENT
END:VCALENDAR