BEGIN:VCALENDAR
VERSION:2.0
PRODID:-//Hackney CVS - ECPv6.15.20//NONSGML v1.0//EN
CALSCALE:GREGORIAN
METHOD:PUBLISH
X-WR-CALNAME:Hackney CVS
X-ORIGINAL-URL:https://hcvs.org.uk
X-WR-CALDESC:Events for Hackney CVS
REFRESH-INTERVAL;VALUE=DURATION:PT1H
X-Robots-Tag:noindex
X-PUBLISHED-TTL:PT1H
BEGIN:VTIMEZONE
TZID:UTC
BEGIN:STANDARD
TZOFFSETFROM:+0000
TZOFFSETTO:+0000
TZNAME:UTC
DTSTART:20160101T000000
END:STANDARD
END:VTIMEZONE
BEGIN:VEVENT
DTSTART;TZID=UTC:20171012T110000
DTEND;TZID=UTC:20171012T133000
DTSTAMP:20260422T090848
CREATED:20171002T145959Z
LAST-MODIFIED:20171002T152242Z
UID:2211-1507806000-1507815000@hcvs.org.uk
SUMMARY:Explore your career options - taster workshop
DESCRIPTION:                 \n  \nCome along to this fun session and meet like-minded BAME women who are thinking of returning to work \n11.00am – 12.30pm:\nExplore Your Career Options and Professional Development \n12.30 – 1.30 pm:\nIndividual support and Create Your Future registration \nFor more information and to book your place\,\ne-mail Zebina.Myrie@hcvs.org.uk or call 020 7923 1962
URL:https://hcvs.org.uk/event/explore-career-options-taster-workshop/
LOCATION:Halkevi Turkish and Kurdish Community Centre\, 31-33 Dalston Lane\, London\, E8 3DF\, United Kingdom
ATTACH;FMTTYPE=image/jpeg:https://hcvs.org.uk/wp-content/uploads/2017/09/IMG_2570-2-e1527088808564.jpg
ORGANIZER;CN="Hackney CVS":MAILTO:reception@hcvs.org.uk
END:VEVENT
BEGIN:VEVENT
DTSTART;TZID=UTC:20171012T160000
DTEND;TZID=UTC:20171012T180000
DTSTAMP:20260422T090848
CREATED:20170830T100815Z
LAST-MODIFIED:20170926T102732Z
UID:957-1507824000-1507831200@hcvs.org.uk
SUMMARY:Family cook and eat course
DESCRIPTION:Our courses are fun and friendly and you will learn how to prepare fresh\, seasonal ingredients and make nutritious\, satisfying and delicious meals with your family and neighbours. \nEvery Thursday 4pm-6pm\, 12 October – 23 November (Excluding 26th October). \nBooking essential. Call 02070338529 or email food@shoreditchtrust.org.uk.
URL:https://hcvs.org.uk/event/family-cook-and-eat-course/
LOCATION:Banister House Community Centre\, London\, E9 6BP\, United Kingdom
ATTACH;FMTTYPE=image/png:https://hcvs.org.uk/wp-content/uploads/2017/08/Screen-Shot-2017-05-16-at-11.43.57.png
END:VEVENT
END:VCALENDAR