BEGIN:VCALENDAR
VERSION:2.0
PRODID:-//Hackney CVS - ECPv6.15.20//NONSGML v1.0//EN
CALSCALE:GREGORIAN
METHOD:PUBLISH
X-WR-CALNAME:Hackney CVS
X-ORIGINAL-URL:https://hcvs.org.uk
X-WR-CALDESC:Events for Hackney CVS
REFRESH-INTERVAL;VALUE=DURATION:PT1H
X-Robots-Tag:noindex
X-PUBLISHED-TTL:PT1H
BEGIN:VTIMEZONE
TZID:UTC
BEGIN:STANDARD
TZOFFSETFROM:+0000
TZOFFSETTO:+0000
TZNAME:UTC
DTSTART:20160101T000000
END:STANDARD
END:VTIMEZONE
BEGIN:VEVENT
DTSTART;TZID=UTC:20170920T093000
DTEND;TZID=UTC:20170920T170000
DTSTAMP:20260422T090847
CREATED:20170830T131259Z
LAST-MODIFIED:20170830T131259Z
UID:984-1505899800-1505926800@hcvs.org.uk
SUMMARY:Practical Appreciative Inquiry Training (Day Two)
DESCRIPTION:Do you need to build skills in your organisation for change management; organisational development; teambuilding or coaching? Appreciative Inquiry (AI) is a recognised technique that builds on an organisations or individuals strengths and assets with the aim of building or rebuilding organisations around what works\, rather than trying to fix what doesn’t. Hackney CVS have negotiated a reduced rate for a two day Appreciative Inquiry training for Hackney Charities.
URL:https://hcvs.org.uk/event/practical-appreciative-inquiry-training-day-two/
LOCATION:Hackney CVS\, 24-30 Dalston Lane\, London\, E8 3AZ\, United Kingdom
END:VEVENT
END:VCALENDAR