BEGIN:VCALENDAR
VERSION:2.0
PRODID:-//Hackney CVS - ECPv6.15.20//NONSGML v1.0//EN
CALSCALE:GREGORIAN
METHOD:PUBLISH
X-ORIGINAL-URL:https://hcvs.org.uk
X-WR-CALDESC:Events for Hackney CVS
REFRESH-INTERVAL;VALUE=DURATION:PT1H
X-Robots-Tag:noindex
X-PUBLISHED-TTL:PT1H
BEGIN:VTIMEZONE
TZID:UTC
BEGIN:STANDARD
TZOFFSETFROM:+0000
TZOFFSETTO:+0000
TZNAME:UTC
DTSTART:20160101T000000
END:STANDARD
END:VTIMEZONE
BEGIN:VEVENT
DTSTART;TZID=UTC:20170802T100000
DTEND;TZID=UTC:20170802T120000
DTSTAMP:20260422T165503
CREATED:20170727T195248Z
LAST-MODIFIED:20170727T195248Z
UID:204-1501668000-1501675200@hcvs.org.uk
SUMMARY:Family Fun Learning Day
DESCRIPTION:Hackney Young People’s University (HYPU) runs a range of summer activities for children and families. Have fun with your family while take part in the following workshops: Baking made Easy\, Music production\, Cake Decorating\, Arts & Crafts\, Singing.  \nCost: free \nhttps://www.htea1.com/hypu-programme-2017
URL:https://hcvs.org.uk/event/family-fun-learning-day/
LOCATION:BSix Sixth Form College\, Kenninghall Road\, E5 8BP\, United Kingdom
END:VEVENT
BEGIN:VEVENT
DTSTART;TZID=UTC:20170802T130000
DTEND;TZID=UTC:20170802T150000
DTSTAMP:20260422T165503
CREATED:20170727T195454Z
LAST-MODIFIED:20170727T195454Z
UID:206-1501678800-1501686000@hcvs.org.uk
SUMMARY:Family Fun Learning Day
DESCRIPTION:Hackney Young People’s University (HYPU) runs a range of summer activities for children and families. Have fun with your family while take part in the following workshops: Baking made Easy\, Music production\, Cake Decorating\, Arts & Crafts\, Singing.  \nCost: free \nhttps://www.htea1.com/hypu-programme-2017
URL:https://hcvs.org.uk/event/family-fun-learning-day-2/
LOCATION:BSix Sixth Form College\, Kenninghall Road\, E5 8BP\, United Kingdom
END:VEVENT
END:VCALENDAR