BEGIN:VCALENDAR
VERSION:2.0
PRODID:-//Hackney CVS - ECPv6.15.20//NONSGML v1.0//EN
CALSCALE:GREGORIAN
METHOD:PUBLISH
X-ORIGINAL-URL:https://hcvs.org.uk
X-WR-CALDESC:Events for Hackney CVS
REFRESH-INTERVAL;VALUE=DURATION:PT1H
X-Robots-Tag:noindex
X-PUBLISHED-TTL:PT1H
BEGIN:VTIMEZONE
TZID:UTC
BEGIN:STANDARD
TZOFFSETFROM:+0000
TZOFFSETTO:+0000
TZNAME:UTC
DTSTART:20160101T000000
END:STANDARD
END:VTIMEZONE
BEGIN:VEVENT
DTSTART;TZID=UTC:20170729T110000
DTEND;TZID=UTC:20170729T150000
DTSTAMP:20260424T054752
CREATED:20170727T195200Z
LAST-MODIFIED:20170727T195200Z
UID:201-1501326000-1501340400@hcvs.org.uk
SUMMARY:The Summer Knees Up
DESCRIPTION:The Summer Knees Up is a family fun day\, which will raise vital funds for St Joseph’s Hospice as well as giving our local community the chance to come and find out more about us. There will be stalls selling a range of items including clothes\, crafts and bric-a-brac. We will also have entertainment on our main stage and fun games for all the family. \nhttps://www.eventbrite.co.uk/e/st-josephs-hospice-summer-knees-up-tickets-35930533192?aff=es2
URL:https://hcvs.org.uk/event/the-summer-knees-up/
LOCATION:St Joseph’s Hospice\, Mare Street\, E8 4SA\, United Kingdom
END:VEVENT
END:VCALENDAR