BEGIN:VCALENDAR
VERSION:2.0
PRODID:-//Hackney CVS - ECPv6.15.20//NONSGML v1.0//EN
CALSCALE:GREGORIAN
METHOD:PUBLISH
X-ORIGINAL-URL:https://hcvs.org.uk
X-WR-CALDESC:Events for Hackney CVS
REFRESH-INTERVAL;VALUE=DURATION:PT1H
X-Robots-Tag:noindex
X-PUBLISHED-TTL:PT1H
BEGIN:VTIMEZONE
TZID:UTC
BEGIN:STANDARD
TZOFFSETFROM:+0000
TZOFFSETTO:+0000
TZNAME:UTC
DTSTART:20160101T000000
END:STANDARD
END:VTIMEZONE
BEGIN:VEVENT
DTSTART;TZID=UTC:20170727T183000
DTEND;TZID=UTC:20170727T203000
DTSTAMP:20260422T234956
CREATED:20170728T155536Z
LAST-MODIFIED:20170728T155536Z
UID:272-1501180200-1501187400@hcvs.org.uk
SUMMARY:Environmental & Land Defenders Evening Briefing
DESCRIPTION:We invite you to attend the next event in our briefing series\, this time focusing on our Environmental and Land Defenders campaign. \nAt this event\, we will launch our latest report detailing the killings in 2016 of those defending their land\, rivers and forests against destructive industries. These ‘land and environmental defenders’ are being murdered in record numbers\, often by a collusion of private and state interests seeking to silence dissent over large-scale projects like mining\, hydro\, agribusiness and logging. \nThe report analyses seven of the worst-hit countries as well as the role of international investors\, like development banks\, whose engagement is essential in solving the underlying causes of the issue. We also suggest ways to tackle the main cause behind the violence: the imposition of extractive projects on communities without their free\, prior and informed consent. \nhttps://www.eventbrite.co.uk/e/environmental-land-defenders-evening-briefing-tickets-35911960641?aff=es2
URL:https://hcvs.org.uk/event/environmental-land-defenders-evening-briefing/
LOCATION:Global Witness\, 1 Portsoken Street\, E1 8BT\, United Kingdom
END:VEVENT
END:VCALENDAR